BEGIN:VCALENDAR
VERSION:2.0
PRODID:-//Voile et Croisière en Liberté - ECPv6.2.9//NONSGML v1.0//EN
CALSCALE:GREGORIAN
METHOD:PUBLISH
X-WR-CALNAME:Voile et Croisière en Liberté
X-ORIGINAL-URL:http://ovghvld.cluster030.hosting.ovh.net
X-WR-CALDESC:Events for Voile et Croisière en Liberté
REFRESH-INTERVAL;VALUE=DURATION:PT1H
X-Robots-Tag:noindex
X-PUBLISHED-TTL:PT1H
BEGIN:VTIMEZONE
TZID:Europe/Paris
BEGIN:DAYLIGHT
TZOFFSETFROM:+0100
TZOFFSETTO:+0200
TZNAME:CEST
DTSTART:20220327T010000
END:DAYLIGHT
BEGIN:STANDARD
TZOFFSETFROM:+0200
TZOFFSETTO:+0100
TZNAME:CET
DTSTART:20221030T010000
END:STANDARD
END:VTIMEZONE
BEGIN:VEVENT
DTSTART;TZID=Europe/Paris:20220526T000000
DTEND;TZID=Europe/Paris:20220606T235959
DTSTAMP:20260424T153049
CREATED:20220421T201655Z
LAST-MODIFIED:20220421T201655Z
UID:10000007-1653523200-1654559999@ovghvld.cluster030.hosting.ovh.net
SUMMARY:L'Ascension aux Scilly
DESCRIPTION:Incluant les ponts de l’Ascension et de la Pentecôte\, nous partirons pour une croisière de 12 jours vers les îles Scilly\, Sorlingues en français\, situées à l’Ouest de l’extrême pointe Sud-Ouest de l’Angleterre.  \n\n\n\nCes îles sont notamment connues pour la douceur de leur climat grâce au Gulf Stream\, pour son jardin botanique qui accueille des plantes subtropicales étonnantes\, mais aussi pour ses réserves naturelles qui abritent macareux\, colonies de phoques\, …  \n\n\n\nSur le plan de la navigation\, il faudra bien sûr traverser la Manche pour arriver dans cet archipel composé de 5 îles principales et d’une multitude d’îlots. Navigation et quarts de nuit nécessaires pour la traversée.  \n\n\n\nNous partirons de Brest\, vers les îles Scilly\, peut-être quelques petits ports et rivières de Cornouailles du sud\, et retour par Ouessant\, bien entendu en fonction de la météo.
URL:http://ovghvld.cluster030.hosting.ovh.net/activite/lascension-aux-scilly/
LOCATION:France
CATEGORIES:Angleterre,Bretagne,Croisière,Hauturière
ATTACH;FMTTYPE=:
END:VEVENT
END:VCALENDAR