BEGIN:VCALENDAR
VERSION:2.0
PRODID:-//Voile et Croisière en Liberté - ECPv6.2.9//NONSGML v1.0//EN
CALSCALE:GREGORIAN
METHOD:PUBLISH
X-WR-CALNAME:Voile et Croisière en Liberté
X-ORIGINAL-URL:http://ovghvld.cluster030.hosting.ovh.net
X-WR-CALDESC:Events for Voile et Croisière en Liberté
REFRESH-INTERVAL;VALUE=DURATION:PT1H
X-Robots-Tag:noindex
X-PUBLISHED-TTL:PT1H
BEGIN:VTIMEZONE
TZID:Europe/Paris
BEGIN:DAYLIGHT
TZOFFSETFROM:+0100
TZOFFSETTO:+0200
TZNAME:CEST
DTSTART:20230326T010000
END:DAYLIGHT
BEGIN:STANDARD
TZOFFSETFROM:+0200
TZOFFSETTO:+0100
TZNAME:CET
DTSTART:20231029T010000
END:STANDARD
END:VTIMEZONE
BEGIN:VEVENT
DTSTART;TZID=Europe/Paris:20230624T000000
DTEND;TZID=Europe/Paris:20230708T235959
DTSTAMP:20260423T175501
CREATED:20230129T155312Z
LAST-MODIFIED:20230129T155312Z
UID:10000050-1687564800-1688860799@ovghvld.cluster030.hosting.ovh.net
SUMMARY:LA CROATIE DU NORD (Istrie) – Pula
DESCRIPTION:Au départ de Pula\, nous avons loué 2 bateaux qui à ce jour sont complets : un Océanis 45 (4 cabines) et un Hanse 385 (3 cabines). Nous envisageons un 3ème bateau. \nNous naviguerons entre Rovinj au Nord\, et Zadar au Sud-Est\, au milieu des nombreuses îles au Sud-Est de l’Istrie.Cette région comporte de multiples mouillages et îlots quasi déserts\, mais également des villages étonnants à l’architecture influencée par de nombreux peuples qui y ont laissé leurs traces : Istriens\, Grecs\, Romains\, Illyriens\, Vénitiens\, Autrichiens\, Hongrois\, Italiens\, Yougoslaves\,…Embarquement le samedi vers 17h et débarquement le samedi à 9h.Budget : environ 1110 € par personne. Avitaillement et trajet sont en plus.Intéressé.e ? Merci de remplir le bulletin d’inscription ICI et de verser l’acompte de 500 €.Plus d’infos ? contact@vcl.fr \n 
URL:http://ovghvld.cluster030.hosting.ovh.net/activite/la-croatie-du-nord-istrie-pula/
LOCATION:France
CATEGORIES:Croatie,Croisière,Méditerranée
ATTACH;FMTTYPE=:
END:VEVENT
END:VCALENDAR