BEGIN:VCALENDAR
VERSION:2.0
PRODID:-//Voile et Croisière en Liberté - ECPv6.2.9//NONSGML v1.0//EN
CALSCALE:GREGORIAN
METHOD:PUBLISH
X-WR-CALNAME:Voile et Croisière en Liberté
X-ORIGINAL-URL:http://ovghvld.cluster030.hosting.ovh.net
X-WR-CALDESC:Events for Voile et Croisière en Liberté
REFRESH-INTERVAL;VALUE=DURATION:PT1H
X-Robots-Tag:noindex
X-PUBLISHED-TTL:PT1H
BEGIN:VTIMEZONE
TZID:Europe/Paris
BEGIN:DAYLIGHT
TZOFFSETFROM:+0100
TZOFFSETTO:+0200
TZNAME:CEST
DTSTART:20220327T010000
END:DAYLIGHT
BEGIN:STANDARD
TZOFFSETFROM:+0200
TZOFFSETTO:+0100
TZNAME:CET
DTSTART:20221030T010000
END:STANDARD
END:VTIMEZONE
BEGIN:VEVENT
DTSTART;TZID=Europe/Paris:20220415T000000
DTEND;TZID=Europe/Paris:20220418T235959
DTSTAMP:20260424T163808
CREATED:20220421T231453Z
LAST-MODIFIED:20220421T231453Z
UID:10000010-1649980800-1650326399@ovghvld.cluster030.hosting.ovh.net
SUMMARY:Pâques aux Calanques
DESCRIPTION:Pour Pâques nous vous proposons d’embarquer de Marseille pour 4 jours vers les si célèbres calanques de Cassis\, La Ciotat\, Bandol\, … en fonction de la météo. Possibilité d’arriver le jeudi soir à bord et de repartir le mardi matin. Coûts : Environ 290 € (base 6 personnes) + avitaillement + transport \n\n\n\nIntéressé.e ? Pour s’inscrire\, bulletin en ligne ICI + versement d’un acompte de 150 €. \n\n\n\nPlus d’infos ? Contacte Vincent à contact@vcl.fr
URL:http://ovghvld.cluster030.hosting.ovh.net/activite/paques-aux-calanques/
LOCATION:France
CATEGORIES:Calanques,Croisière,Méditerranée
ATTACH;FMTTYPE=:
END:VEVENT
END:VCALENDAR